BEGIN:VCALENDAR
VERSION:2.0
PRODID:-//ChamberMaster//Event Calendar 2.0//EN
METHOD:PUBLISH
X-PUBLISHED-TTL:P3D
REFRESH-INTERVAL:P3D
CALSCALE:GREGORIAN
BEGIN:VEVENT
DTSTART:20130214T013000Z
DTEND:20130214T030000Z
X-MICROSOFT-CDO-ALLDAYEVENT:FALSE
SUMMARY:Joint Chamber Mixer: Garden Grove\, Hispanic & Santa Ana Chamber
DESCRIPTION:Joint Chamber Mixer\; Garden Grove\, Hispanic & Santa Ana Chambers\n\n	\n		Free Appetizers & Soft Drinks \n	\n		Cash Bar\, Raffle Prize Drawing
X-ALT-DESC;FMTTYPE=text/html:<p>\n	<span style="font-size: 16px\;"><span style="font-family: comic sans ms\;"><span style="color: rgb(0\, 0\, 255)\;">Joint Chamber Mixer\; Garden Grove\, Hispanic &amp\; Santa Ana Chambers</span></span></span></p>\n<ul>\n	<li>\n		<span style="font-size: 16px\;"><span style="font-family: comic sans ms\;"><span style="color: rgb(0\, 0\, 255)\;">Free Appetizers &amp\; Soft Drinks </span></span></span></li>\n	<li>\n		<span style="font-size: 16px\;"><span style="font-family: comic sans ms\;"><span style="color: rgb(0\, 0\, 255)\;">Cash Bar\, Raffle Prize Drawing</span></span></span></li>\n</ul>\n
LOCATION:227 N. Broadway\, Santa Ana
UID:e.1315.871
SEQUENCE:3
DTSTAMP:20260425T192322Z
URL:http://member.gardengrovechamber.com/events/details/joint-chamber-mixer-garden-grove-hispanic-santa-ana-chamber-02-13-2013-871
END:VEVENT

END:VCALENDAR
