BEGIN:VCALENDAR
VERSION:2.0
PRODID:-//ChamberMaster//Event Calendar 2.0//EN
METHOD:PUBLISH
X-PUBLISHED-TTL:P3D
REFRESH-INTERVAL:P3D
CALSCALE:GREGORIAN
BEGIN:VEVENT
DTSTART:20160221T183000Z
DTEND:20160221T210000Z
X-MICROSOFT-CDO-ALLDAYEVENT:FALSE
SUMMARY:Kentucky Derby Fashion Show
DESCRIPTION:Your are invited to the Garden Grove Chamber Women's Division Kentucky Derby Fashion Show Luncheon and Charity Auction.\n\n\n\nThe Women's Division will be using this event to raise funds for their philanthropic projects:\n\n	Hosting the Silver Spoon Tea\n	Award educational scholarships to ROP seniors from Garden Grove Unified School District\n	Support local residents that are in need of assistance\n	Maintain collaborations with the City's non-profit organizations and other community endeavors
X-ALT-DESC;FMTTYPE=text/html:Your are invited to the Garden Grove Chamber Women&#39\;s Division<em><strong> Kentucky Derby<strong>&nbsp\;</strong>Fashion Show Luncheon and Charity Auction</strong>.</em><br />\n<br />\nThe Women&#39\;s Division will be using this event to raise funds for their philanthropic projects:\n<ul>\n	<li><em>Hosting the Silver Spoon Tea</em></li>\n	<li><em>Award educational&nbsp\;scholarships to ROP seniors from Garden Grove Unified School District</em></li>\n	<li><em>Support local residents that are in need of assistance</em></li>\n	<li><em>Maintain collaborations with the City&#39\;s non-profit organizations and other community endeavors</em></li>\n</ul>\n
LOCATION:Garden Grove Elk's Lodge 11551 Trask Avenue Garden Grove\, CA 92843
UID:e.1315.4828
SEQUENCE:3
DTSTAMP:20260421T042232Z
URL:http://member.gardengrovechamber.com/events/details/kentucky-derby-fashion-show-02-21-2016-4828
END:VEVENT

END:VCALENDAR
