BEGIN:VCALENDAR
VERSION:2.0
PRODID:-//ChamberMaster//Event Calendar 2.0//EN
METHOD:PUBLISH
X-PUBLISHED-TTL:P3D
REFRESH-INTERVAL:P3D
CALSCALE:GREGORIAN
BEGIN:VEVENT
DTSTART:20170831T010000Z
DTEND:20170831T033000Z
X-MICROSOFT-CDO-ALLDAYEVENT:FALSE
SUMMARY:Legal Do's and Don'ts of Business
DESCRIPTION:The workshop covers basic legal issues faced by small businesses in California. You will learn the most common costly legal mistakes that most small business owners make. We will discuss how to determine the best legal structure for your business\, the pitfalls to avoid in contracts\, partnership agreements\, and leases\, employee versus independent contractor\, and how to protect your brand and much more. Here's your chance to get answers to your business legal questions.
X-ALT-DESC;FMTTYPE=text/html:<span style="color: rgb(0\, 0\, 0)\; font-family: Lato\, Arial\, Helvetica\, sans-serif\; font-size: 16px\;">The workshop covers basic legal issues faced by small businesses in California. You will learn the most common costly legal mistakes that most small business owners make. We will discuss how to determine the best legal structure for your business\, the pitfalls to avoid in contracts\, partnership agreements\, and leases\, employee versus independent contractor\, and how to protect your brand and much more. Here&#39\;s your chance to get answers to your business legal questions.</span>
LOCATION:Garden Grove Community Center 11300 Stanford Avenue Constitution Room Garden Grove\, CA 92840
UID:e.1315.6212
SEQUENCE:3
DTSTAMP:20260420T000435Z
URL:http://member.gardengrovechamber.com/events/details/legal-do-s-and-don-ts-of-business-6212
END:VEVENT

END:VCALENDAR
