BEGIN:VCALENDAR
VERSION:2.0
PRODID:-//ChamberMaster//Event Calendar 2.0//EN
METHOD:PUBLISH
X-PUBLISHED-TTL:P3D
REFRESH-INTERVAL:P3D
CALSCALE:GREGORIAN
BEGIN:VEVENT
DTSTART:20171027T160000Z
DTEND:20171027T180000Z
X-MICROSOFT-CDO-ALLDAYEVENT:FALSE
SUMMARY:Legislative Roundtable
DESCRIPTION:Program Agenda:\n\n9:00 am  - Check in. Buffet breakfast\n\n9:25 am  - Group photo\n\n9:30 am  - Opening remarks\n\n9:45 am  - First session: healthcare\n\n10:20 am - Second session: infrastructure\n\n10:55 am - Closing remarks by Congressman Correa\n\n11:00 am - Adjourn. Meet informally with audience\n\n\n\nHealth care is 1/6 of our national budget. Some Americans believe a single payer system is the only solution to spiraling costs\, given the continuing uncertainty of Obamacare. Hear the pros and cons of a single payer system in California\, because you will be voting your choice next year!\n\n\n\nCalifornia faces a $136-billion backlog of necessary repairs on our state's crumbling infrastructure of highways\, local roads\, waterways\, and other critical construction.   The budget includes significant new spending on transportation infrastructure with revenues from new vehicle fees increased diesel and gasoline taxes\, and operational efficiencies providing $54 billion over the next ten years\, primarily for state and local road repairs.  Hear from our leaders of how the State & Federal government plan work together in fixing our state for our future generations.\n\n\n\nBe sure to RSVP here\, so you can hear from the experts\, and ask your questions - and be the guest of VACOC for a wonderful breakfast!
X-ALT-DESC;FMTTYPE=text/html:Program Agenda:<br />\n9:00 am &nbsp\;- Check in. Buffet breakfast<br />\n9:25 am &nbsp\;- Group photo<br />\n9:30 am &nbsp\;- Opening remarks<br />\n9:45 am &nbsp\;- First session: healthcare<br />\n10:20 am - Second session: infrastructure<br />\n10:55 am - Closing remarks by Congressman Correa<br />\n11:00 am - Adjourn. Meet informally with audience<br />\n<br />\nHealth care is 1/6 of our national budget. Some Americans believe a single payer system is the only solution to spiraling costs\, given the continuing uncertainty of Obamacare. Hear the pros and cons of a single payer system in California\, because you will be voting your choice next year!<br />\n<br />\nCalifornia faces a $136-billion backlog of necessary repairs on our state&rsquo\;s crumbling infrastructure of highways\, local roads\, waterways\, and other critical construction. &nbsp\;&nbsp\;The budget includes significant new spending on transportation infrastructure with revenues from new vehicle fees increased diesel and gasoline taxes\, and operational efficiencies providing $54 billion over the next ten years\, primarily for state and local road repairs. &nbsp\;Hear from our leaders of how the State &amp\; Federal government plan work together in fixing our state for our future generations.<br />\n<br />\nBe sure to&nbsp\;<a href="https://docs.google.com/forms/d/e/1FAIpQLScBcmNDGmtRctM43jFX351Y5Bnw2wDdIu6jikAO0XvPbEvoRQ/viewform" target="_blank">RSVP&nbsp\;here</a>\, so you can hear from the experts\, and ask your questions - and be the guest of VACOC for a wonderful breakfast!
LOCATION:Great Wolf Lodge 12681 Harbor Boulevard Garden Grove\, CA 92840
UID:e.1315.6235
SEQUENCE:3
DTSTAMP:20260419T210208Z
URL:http://member.gardengrovechamber.com/events/details/legislative-roundtable-6235
END:VEVENT

END:VCALENDAR
