BEGIN:VCALENDAR
VERSION:2.0
PRODID:-//ChamberMaster//Event Calendar 2.0//EN
METHOD:PUBLISH
X-PUBLISHED-TTL:P3D
REFRESH-INTERVAL:P3D
CALSCALE:GREGORIAN
BEGIN:VEVENT
DTSTART:20121026T013000Z
DTEND:20121026T043000Z
X-MICROSOFT-CDO-ALLDAYEVENT:FALSE
SUMMARY:Let the Good Times Roll: Chamber's Annual Bowling Tournament
DESCRIPTION:The Garden Grove Chamber's Annual Bowling Tournament for members and their employees! More info to come...
X-ALT-DESC;FMTTYPE=text/html:<p>\n	The Garden Grove Chamber&#39\;s Annual Bowling Tournament for members and their employees! More info to come...</p>\n
LOCATION:AMF Valley View Bowl 12141 Valley View Street Garden Grove\, CA 92845
UID:e.1315.846
SEQUENCE:3
DTSTAMP:20260426T012522Z
URL:http://member.gardengrovechamber.com/events/details/let-the-good-times-roll-chamber-s-annual-bowling-tournament-10-25-2012-846
END:VEVENT

END:VCALENDAR
