BEGIN:VCALENDAR
VERSION:2.0
PRODID:-//ChamberMaster//Event Calendar 2.0//EN
METHOD:PUBLISH
X-PUBLISHED-TTL:P3D
REFRESH-INTERVAL:P3D
CALSCALE:GREGORIAN
BEGIN:VEVENT
DTSTART:20180221T173000Z
DTEND:20180221T190000Z
X-MICROSOFT-CDO-ALLDAYEVENT:FALSE
SUMMARY:Livestream - Open for Business
DESCRIPTION:The Orange County Small Business Development Center (SBDC) is presenting a workshop on "Livestream - Open For Business". \n\n\n\nGOOGLE VIEWING PARTY\n\nAs part of the U.S.. Small Business Administrative Tech Coalition\, Google is teaming up with Facebook\, Constant Contact\, and Square to host a livestream workshop to teach businesses how to create a seamless online shopping experience for their customers. The Orange County SBDC will be hosting a viewing part for all interested businesses in our community. \n\n\n\nPlanned Agenda:\n\n9:30 AM: SBA Intro\n\n9:30 - 9:45 AM: Constant Contact\n\n9:45 - 10:00 AM: Square\n\n10:00 - 10:15 AM: Facebook\n\n10:15 - 10:30 AM: Google
X-ALT-DESC;FMTTYPE=text/html:The Orange County Small Business Development Center (SBDC) is presenting a workshop on <strong><em>&quot\;Livestream - Open For Business&quot\;.&nbsp\;<br />\n<br />\nGOOGLE VIEWING PARTY</em></strong><br />\nAs part of the U.S.. Small Business Administrative Tech Coalition\, Google is teaming up with Facebook\, Constant Contact\, and Square to host a livestream workshop to teach businesses how to create a seamless online shopping experience for their customers. The Orange County SBDC will be hosting a viewing part for all interested businesses in our community.&nbsp\;<br />\n<br />\nPlanned Agenda:<br />\n9:30 AM: SBA Intro<br />\n9:30 - 9:45 AM: Constant Contact<br />\n9:45 - 10:00 AM: Square<br />\n10:00 - 10:15 AM: Facebook<br />\n10:15 - 10:30 AM: Google
LOCATION:Garden Grove Courtyard Center 12732 Main Street Garden Grove\, CA 92840
UID:e.1315.6271
SEQUENCE:3
DTSTAMP:20260419T164440Z
URL:http://member.gardengrovechamber.com/events/details/livestream-open-for-business-6271
END:VEVENT

END:VCALENDAR
