BEGIN:VCALENDAR
VERSION:2.0
PRODID:-//ChamberMaster//Event Calendar 2.0//EN
METHOD:PUBLISH
X-PUBLISHED-TTL:P3D
REFRESH-INTERVAL:P3D
CALSCALE:GREGORIAN
BEGIN:VEVENT
DTSTART:20171008T013000Z
DTEND:20171008T050000Z
X-MICROSOFT-CDO-ALLDAYEVENT:FALSE
SUMMARY:Lodgetoberfest
DESCRIPTION:Celebrate October in the German Tradition\, with family\, friends\, good food\, beer\, and festive music. Friends and family are welcome. \n\n\n\nAll proceeds will go towards scholarships for high school students and a smaller portion to Raising A Reader - which is a program meant to increase readership in elementary schools. \n\n\n\n$10 at the door\, or pay through PayPal at gardengrovemasons@gmail.com    \n\n\n\nRSVP's needed. We'll have plenty of booze\, but if anyone would like to donate by alse bringing more\, they are more than welcome.
X-ALT-DESC;FMTTYPE=text/html:Celebrate October in the German Tradition\, with family\, friends\, good food\, beer\, and festive music. Friends and family are welcome.&nbsp\;<br />\n<br />\nAll proceeds will go towards scholarships for high school students and a smaller portion to Raising A Reader - which is a program meant to increase readership in elementary schools.&nbsp\;<br />\n<br />\n$10 at the door\, or pay through PayPal at gardengrovemasons@gmail.com&nbsp\;&nbsp\;&nbsp\;&nbsp\;<br />\n<br />\nRSVP&#39\;s needed. We&#39\;ll have plenty of booze\, but if anyone would like to donate by alse bringing more\, they are more than welcome.&nbsp\;
LOCATION:Garden Grove Masonic Lodge #351 11270 Acacia Parkway Garden Grove\, CA 92840
UID:e.1315.6224
SEQUENCE:3
DTSTAMP:20260419T222014Z
URL:http://member.gardengrovechamber.com/events/details/lodgetoberfest-6224
END:VEVENT

END:VCALENDAR
