BEGIN:VCALENDAR
VERSION:2.0
PRODID:-//ChamberMaster//Event Calendar 2.0//EN
METHOD:PUBLISH
X-PUBLISHED-TTL:P3D
REFRESH-INTERVAL:P3D
CALSCALE:GREGORIAN
BEGIN:VEVENT
DTSTART:20180128T220000Z
DTEND:20180129T010000Z
X-MICROSOFT-CDO-ALLDAYEVENT:FALSE
SUMMARY:Luxury Resale Pop Up Shop & Social Mixer
DESCRIPTION:We are having an event at our venue\, E Patisserie\, this coming Sunday from 2pm - 5pm in connection with Marque Supply Company. They are a supplier of authentic pre-owned luxury handbags. They chose our venue to host the event as they would like to help us bring more patrons to our business.
X-ALT-DESC;FMTTYPE=text/html:<span style="font-family:calibri\,sans-serif\;"><span style="font-size:11.0pt\;">We are having an event at our venue\, E Patisserie\, this coming Sunday from 2pm - 5pm in connection with Marque Supply Company. They are a supplier of authentic pre-owned luxury handbags. They chose our venue to host the event as they would like to help us bring more patrons to our business.</span></span>
LOCATION:E Patisserie & Cafe 12919 Main Street Garden Grove
UID:e.1315.6262
SEQUENCE:3
DTSTAMP:20260419T182000Z
URL:http://member.gardengrovechamber.com/events/details/luxury-resale-pop-up-shop-social-mixer-6262
END:VEVENT

END:VCALENDAR
