BEGIN:VCALENDAR
VERSION:2.0
PRODID:-//ChamberMaster//Event Calendar 2.0//EN
METHOD:PUBLISH
X-PUBLISHED-TTL:P3D
REFRESH-INTERVAL:P3D
CALSCALE:GREGORIAN
BEGIN:VEVENT
DTSTART:20160413T140000Z
DTEND:20160413T153000Z
X-MICROSOFT-CDO-ALLDAYEVENT:FALSE
SUMMARY:Meet & Greet Breakfast at Sam's Club
DESCRIPTION:Come meet the new club manager at the Sam's Club in Stanton. A complimentary continental breakfast will be served.
X-ALT-DESC;FMTTYPE=text/html:Come meet the new club manager at the Sam&#39\;s Club in Stanton. A complimentary continental breakfast will be served.&nbsp\;
LOCATION:Sam's Club 12540 Beach Blvd. Stanton\, CA 90680
UID:e.1315.5123
SEQUENCE:3
DTSTAMP:20260421T024016Z
URL:http://member.gardengrovechamber.com/events/details/meet-greet-breakfast-at-sam-s-club-04-13-2016-5123
END:VEVENT

END:VCALENDAR
