BEGIN:VCALENDAR
VERSION:2.0
PRODID:-//ChamberMaster//Event Calendar 2.0//EN
METHOD:PUBLISH
X-PUBLISHED-TTL:P3D
REFRESH-INTERVAL:P3D
CALSCALE:GREGORIAN
BEGIN:VEVENT
DTSTART:20170909T010000Z
DTEND:20170909T030000Z
X-MICROSOFT-CDO-ALLDAYEVENT:FALSE
SUMMARY:Michael A. Monsoor Memorial Stadium Dedication
DESCRIPTION:Save the Date: \n\nMichael A. Monsoor Memorial Stadium Dedication\n\n\n\nAbout Michael Monsoor MA2 (SEAL):\n\nPetty Officer Michael A. Monsoor\, United States Navy\, distinguished himself through conspicuous gallantry above and beyond the call fo duty in support of Operation Iraqi Freedom on 29 September 2006. Without hesitation and showing no regard for life\, Michael threw himself onto an incoming grenade\, smothering it to protect the lives of two fellow SEALs. For this courageous and selfless act he was posthumously awarded the medal of honor. \n\n\n\nGarden Grove High School Class of 1999.
X-ALT-DESC;FMTTYPE=text/html:Save the Date:&nbsp\;<br />\nMichael A. Monsoor Memorial Stadium Dedication<br />\n<br />\nAbout Michael Monsoor&nbsp\;MA2 (SEAL):<br />\nPetty Officer Michael A. Monsoor\, United States Navy\, distinguished himself through conspicuous&nbsp\;gallantry above and beyond the call fo duty in support of Operation Iraqi Freedom on 29 September 2006. Without hesitation and showing no regard for life\, Michael threw himself onto an incoming grenade\, smothering it to protect the lives of two fellow SEALs. For this courageous and selfless act he was posthumously awarded the medal of honor.&nbsp\;<br />\n<br />\nGarden Grove High School Class of 1999.
LOCATION:11271 Stanford Avenue Garden Grove\, CA
UID:e.1315.6211
SEQUENCE:3
DTSTAMP:20260419T221954Z
URL:http://member.gardengrovechamber.com/events/details/michael-a-monsoor-memorial-stadium-dedication-6211
END:VEVENT

END:VCALENDAR
