BEGIN:VCALENDAR
VERSION:2.0
PRODID:-//ChamberMaster//Event Calendar 2.0//EN
METHOD:PUBLISH
X-PUBLISHED-TTL:P3D
REFRESH-INTERVAL:P3D
CALSCALE:GREGORIAN
BEGIN:VEVENT
DTSTART:20161113T023000Z
DTEND:20161113T070000Z
X-MICROSOFT-CDO-ALLDAYEVENT:FALSE
SUMMARY:Miss Garden Grove 2017 Competition
DESCRIPTION:Join us as we crown the new Miss Garden Grove and Miss Garden Grove's Outstanding Teen!
X-ALT-DESC;FMTTYPE=text/html:<span style="font-family: Helvetica\, Arial\, sans-serif\; font-size: 14px\;">Join us as we crown the new Miss Garden Grove and Miss Garden Grove&#39\;s Outstanding Teen!</span>
LOCATION:Stanton Civic Center Theater 7800 Katella Avenue Stanton\, CA 90680
UID:e.1315.6034
SEQUENCE:3
DTSTAMP:20260420T134100Z
URL:http://member.gardengrovechamber.com/events/details/miss-garden-grove-2017-competition-6034
END:VEVENT

END:VCALENDAR
