BEGIN:VCALENDAR
VERSION:2.0
PRODID:-//ChamberMaster//Event Calendar 2.0//EN
METHOD:PUBLISH
X-PUBLISHED-TTL:P3D
REFRESH-INTERVAL:P3D
CALSCALE:GREGORIAN
BEGIN:VEVENT
DTSTART:20140921T000000Z
DTEND:20140921T060000Z
X-MICROSOFT-CDO-ALLDAYEVENT:FALSE
SUMMARY:Miss Garden Grove Poker Night - POSTPONED
DESCRIPTION:Miss Garden Grove Poker Night has been postponed to early 2015!
X-ALT-DESC;FMTTYPE=text/html:Miss Garden Grove Poker Night has been postponed to early 2015! &nbsp\;
LOCATION:
UID:e.1315.1759
SEQUENCE:3
DTSTAMP:20260424T120634Z
URL:http://member.gardengrovechamber.com/events/details/miss-garden-grove-poker-night-postponed-09-20-2014-1759
END:VEVENT

END:VCALENDAR
