BEGIN:VCALENDAR
VERSION:2.0
PRODID:-//ChamberMaster//Event Calendar 2.0//EN
METHOD:PUBLISH
X-PUBLISHED-TTL:P3D
REFRESH-INTERVAL:P3D
CALSCALE:GREGORIAN
BEGIN:VEVENT
DTSTART:20140828T003000Z
DTEND:20140828T023000Z
X-MICROSOFT-CDO-ALLDAYEVENT:FALSE
SUMMARY:Miss Garden Grove Sponsor Mixer
DESCRIPTION:Come join us for some delicious food and meet the 2015 Miss Garden Grove and Miss Garden Grove's Outstanding Teen Contestants! This event is sponsored by Garden Grove Chamber of Commerce\, Carolina's Italian Restaurant and Garden Grove Evening Kiwanis.
X-ALT-DESC;FMTTYPE=text/html:<span style="font-size:14px\;"><span style="font-family:times new roman\;">Come join us for some delicious food and meet the 2015 Miss Garden Grove and Miss Garden Grove&#39\;s Outstanding Teen Contestants! This event is sponsored by Garden Grove Chamber of Commerce\, Carolina&#39\;s Italian Restaurant and Garden Grove Evening Kiwanis.</span></span>
LOCATION:Kiwanisland 9840 Larson Avenue Garden Grove\, CA 92844
UID:e.1315.1814
SEQUENCE:3
DTSTAMP:20260424T131315Z
URL:http://member.gardengrovechamber.com/events/details/miss-garden-grove-sponsor-mixer-08-27-2014-1814
END:VEVENT

END:VCALENDAR
