BEGIN:VCALENDAR
VERSION:2.0
PRODID:-//ChamberMaster//Event Calendar 2.0//EN
METHOD:PUBLISH
X-PUBLISHED-TTL:P3D
REFRESH-INTERVAL:P3D
CALSCALE:GREGORIAN
BEGIN:VEVENT
DTSTART:20171019T003000Z
DTEND:20171019T020000Z
X-MICROSOFT-CDO-ALLDAYEVENT:FALSE
SUMMARY:Monthly Chamber Mixer at Anaheim Marriott Suites
DESCRIPTION:Join us for our Monthly Chamber Mixer. Refreshments will be provided. Be sure to bring your business cards.\n\n\n\nRSVP's are required for this event. The deadline to RSVP is Friday\, October 13th.\n\n\n\nPromote your business even further by bringing something to be raffled off.  If you are unable to attend\, you can bring your raffle item with your business card attached to the Chamber Office.
X-ALT-DESC;FMTTYPE=text/html:Join us for our Monthly Chamber Mixer.&nbsp\;Refreshments will be provided. Be sure to bring your business cards.<br />\n<br />\nRSVP&#39\;s are required for this event. The deadline to RSVP is Friday\, October 13th.<br />\n<br />\n<strong style="line-height: 20.7999992370605px\;"><em>Promote your business even further by bringing something to be raffled off. &nbsp\;If you are unable to attend\, you can bring your raffle item with your business card attached to the Chamber Office.</em></strong>
LOCATION:Anaheim Marriott Suites 12015 Harbor Boulevard Garden Grove\, CA 92840
UID:e.1315.5563
SEQUENCE:3
DTSTAMP:20260419T223741Z
URL:http://member.gardengrovechamber.com/events/details/monthly-chamber-mixer-at-anaheim-marriott-suites-5563
END:VEVENT

END:VCALENDAR
