BEGIN:VCALENDAR
VERSION:2.0
PRODID:-//ChamberMaster//Event Calendar 2.0//EN
METHOD:PUBLISH
X-PUBLISHED-TTL:P3D
REFRESH-INTERVAL:P3D
CALSCALE:GREGORIAN
BEGIN:VEVENT
DTSTART:20171214T013000Z
DTEND:20171214T030000Z
X-MICROSOFT-CDO-ALLDAYEVENT:FALSE
SUMMARY:Monthly Chamber Mixer at F&M Bank
DESCRIPTION:Join us for our Annual Garden Grove Chamber Christmas Mixer. Refreshments will be provided. Be sure to bring your business cards to enter in the prize drawings! Door prize donations are welcome but not required. \n\n\n\nYou can also bring a NEW unwrapped toy to donate to Toys for Tots!\n\n\n\nPromote your business even further by bringing something to be raffled off.  If you are unable to attend\, you can bring your raffle item with your business card attached to the Chamber Office.
X-ALT-DESC;FMTTYPE=text/html:Join us for our Annual Garden Grove Chamber Christmas Mixer.&nbsp\;Refreshments will be provided. Be sure to bring your business cards to enter in the prize drawings! Door prize donations are welcome but not required.&nbsp\;<br />\n<br />\nYou can also bring a NEW unwrapped toy to donate to Toys for Tots!<br />\n<br />\n<strong style="line-height: 20.7999992370605px\;"><em>Promote your business even further by bringing something to be raffled off. &nbsp\;If you are unable to attend\, you can bring your raffle item with your business card attached to the Chamber Office.</em></strong>
LOCATION:Farmers & Merchants Bank 10422 Garden Grove Blvd. Garden Grove\, CA 92843
UID:e.1315.5565
SEQUENCE:3
DTSTAMP:20260419T194620Z
URL:http://member.gardengrovechamber.com/events/details/monthly-chamber-mixer-at-f-m-bank-12-13-2017-5565
END:VEVENT

END:VCALENDAR
