BEGIN:VCALENDAR
VERSION:2.0
PRODID:-//ChamberMaster//Event Calendar 2.0//EN
METHOD:PUBLISH
X-PUBLISHED-TTL:P3D
REFRESH-INTERVAL:P3D
CALSCALE:GREGORIAN
BEGIN:VEVENT
DTSTART:20170622T003000Z
DTEND:20170622T020000Z
X-MICROSOFT-CDO-ALLDAYEVENT:FALSE
SUMMARY:Monthly Chamber Mixer at Garden Grove Masonic Lodge
DESCRIPTION:Join us for our Monthly Chamber Mixer as we celebrate the Garden Grove Masonic Lodge's joining of the Chamber of Commerce with a Ribbon Cutting Ceremony. Refreshments will be provided. Be sure to bring your business cards.\n\n\n\nPromote your business even further by bringing something to be raffled off.  If you are unable to attend\, you can bring your raffle item with your business card attached to the Chamber Office.
X-ALT-DESC;FMTTYPE=text/html:Join us for our Monthly Chamber Mixer as we celebrate the Garden Grove Masonic Lodge&#39\;s joining of the Chamber of Commerce with a Ribbon Cutting Ceremony.&nbsp\;Refreshments will be provided. Be sure to bring your business cards.<br />\n<br />\n<strong style="line-height: 20.7999992370605px\;"><em>Promote your business even further by bringing something to be raffled off. &nbsp\;If you are unable to attend\, you can bring your raffle item with your business card attached to the Chamber Office.</em></strong>
LOCATION:Garden Grove Masonic Lodge 11270 Acacia Parkway Garden Grove\, CA
UID:e.1315.5559
SEQUENCE:3
DTSTAMP:20260420T031141Z
URL:http://member.gardengrovechamber.com/events/details/monthly-chamber-mixer-at-garden-grove-masonic-lodge-5559
END:VEVENT

END:VCALENDAR
