BEGIN:VCALENDAR
VERSION:2.0
PRODID:-//ChamberMaster//Event Calendar 2.0//EN
METHOD:PUBLISH
X-PUBLISHED-TTL:P3D
REFRESH-INTERVAL:P3D
CALSCALE:GREGORIAN
BEGIN:VEVENT
DTSTART:20140806T000000Z
DTEND:20140806T023000Z
X-MICROSOFT-CDO-ALLDAYEVENT:FALSE
SUMMARY:National Night Out
DESCRIPTION:We cordially invite you and your neighborhood to be a part of the Garden Grove Police Department's National Night Out.  Join the Garden Grove Police Department\, Boys and Girls Club\, Garden Grove Downtown Business Association and the Garden Grove Neighborhood Association for this night out and enjoy Hot Dogs\, Popcorn\, and More!  \n\nThis family event is to help raise awareness regarding the Neighborhood Watch movement and its effectiveness in preventing crime and building safer and stronger communities.  Come meet your Crime Prevention Officer\, Beat Patrol Officer and other members of our staff and learn how you can become involved with our Community Policing program.
X-ALT-DESC;FMTTYPE=text/html:We cordially invite you and your neighborhood to be a part of the Garden Grove Police Department&#39\;s National Night Out. &nbsp\;Join the Garden Grove Police Department\, Boys and Girls Club\, Garden Grove Downtown Business Association and the Garden Grove Neighborhood Association for this night out and enjoy <strong><em>Hot Dogs\, Popcorn\, and More!</em></strong> &nbsp\;<br />\nThis family event is to help raise awareness regarding the Neighborhood Watch movement and its effectiveness in preventing crime and building safer and stronger communities. &nbsp\;Come meet your Crime Prevention Officer\, Beat Patrol Officer and other members of our staff and learn how you can become involved with our Community Policing program.<br />\n&nbsp\;
LOCATION:Historical Main Street (between Garden Grove Blvd. and Acacia) Garden Grove\, CA 92840
UID:e.1315.1812
SEQUENCE:3
DTSTAMP:20260424T130739Z
URL:http://member.gardengrovechamber.com/events/details/national-night-out-08-05-2014-1812
END:VEVENT

END:VCALENDAR
