BEGIN:VCALENDAR
VERSION:2.0
PRODID:-//ChamberMaster//Event Calendar 2.0//EN
METHOD:PUBLISH
X-PUBLISHED-TTL:P3D
REFRESH-INTERVAL:P3D
CALSCALE:GREGORIAN
BEGIN:VEVENT
DTSTART:20170802T003000Z
DTEND:20170802T030000Z
X-MICROSOFT-CDO-ALLDAYEVENT:FALSE
SUMMARY:National Night Out
DESCRIPTION:Purpose of National Night Out:\n\n	To Raise Awareness - About Neighborhood watch\, preventing crime and building a safer and stronger communities\n	To Motivate - Neighborhood Watch groups and to encourage new members. \n	To Encourage - Close working relationships with all community groups and develop partnerships within the community and to become more involved with our Community Policing program. \n\nBring the family for an evening of fun and community!! We will have games for the kids\, giveaways from community partners and a drawing for two bikes\, plus more!
X-ALT-DESC;FMTTYPE=text/html:Purpose of National Night Out:\n<ul>\n	<li>To Raise Awareness - About Neighborhood watch\, preventing crime and building a safer and stronger communities</li>\n	<li>To Motivate - Neighborhood Watch groups and to encourage new members.&nbsp\;</li>\n	<li>To Encourage - Close working relationships with all community groups and develop partnerships within the community and to become more involved with our Community Policing program.&nbsp\;</li>\n</ul>\nBring the family for an evening of fun and community!! We will have games for the kids\, giveaways from community partners and a drawing for two bikes\, plus more!
LOCATION:Village Green 12732 Main Street Garden Grove\, CA
UID:e.1315.6180
SEQUENCE:3
DTSTAMP:20260419T235748Z
URL:http://member.gardengrovechamber.com/events/details/national-night-out-6180
END:VEVENT

END:VCALENDAR
