BEGIN:VCALENDAR
VERSION:2.0
PRODID:-//ChamberMaster//Event Calendar 2.0//EN
METHOD:PUBLISH
X-PUBLISHED-TTL:P3D
REFRESH-INTERVAL:P3D
CALSCALE:GREGORIAN
BEGIN:VEVENT
DTSTART:20150416T003000Z
DTEND:20150416T013000Z
X-MICROSOFT-CDO-ALLDAYEVENT:FALSE
SUMMARY:Nestegg Insurance Services Ribbon Cutting Ceremony
DESCRIPTION:Please join us for the grand opening and ribbon cutting ceremony for Nestegg Insurance Services taking place during the Garden Grove Chamber Mixer. Refreshments will be provided in the Chamber suite.
X-ALT-DESC;FMTTYPE=text/html:Please join us for the grand opening and ribbon cutting ceremony for Nestegg Insurance Services taking place during the Garden Grove Chamber Mixer. Refreshments will be provided&nbsp\;in the Chamber suite.&nbsp\;
LOCATION:12866 Main Street\, Suite 201 Garden Grove\, CA 92840
UID:e.1315.2926
SEQUENCE:3
DTSTAMP:20260424T021331Z
URL:http://member.gardengrovechamber.com/events/details/nestegg-insurance-services-ribbon-cutting-ceremony-04-15-2015-2926
END:VEVENT

END:VCALENDAR
