BEGIN:VCALENDAR
VERSION:2.0
PRODID:-//ChamberMaster//Event Calendar 2.0//EN
METHOD:PUBLISH
X-PUBLISHED-TTL:P3D
REFRESH-INTERVAL:P3D
CALSCALE:GREGORIAN
BEGIN:VEVENT
DTSTART:20170408T200000Z
DTEND:20170408T220000Z
X-MICROSOFT-CDO-ALLDAYEVENT:FALSE
SUMMARY:No More Trash Bags Suitcase Drive
DESCRIPTION:They are also collecting suitcases filled with items for foster children at Olive Crest Agency. In many cases these children are taken from their home with a few items in a trash bag and they are hoping to provide a few suitcases to help make this adjustment a bit easier.
X-ALT-DESC;FMTTYPE=text/html:<span style="font-family:arial\,sans-serif\;"><span style="font-size:12.0pt\;">They are also collecting suitcases filled with items for foster children at Olive Crest Agency. In many cases these children are taken from their home with a few items in a trash bag and they are hoping to provide a few suitcases to help make this adjustment a bit easier.&nbsp\;</span></span>
LOCATION:Olive Crest Agency at New Life Community Church 18800 Norwalk Blvd Artesia\, CA 90701
UID:e.1315.6133
SEQUENCE:3
DTSTAMP:20260420T062249Z
URL:http://member.gardengrovechamber.com/events/details/no-more-trash-bags-suitcase-drive-6133
END:VEVENT

END:VCALENDAR
