BEGIN:VCALENDAR
VERSION:2.0
PRODID:-//ChamberMaster//Event Calendar 2.0//EN
METHOD:PUBLISH
X-PUBLISHED-TTL:P3D
REFRESH-INTERVAL:P3D
CALSCALE:GREGORIAN
BEGIN:VEVENT
DTSTART:20170715T220000Z
DTEND:20170716T020000Z
X-MICROSOFT-CDO-ALLDAYEVENT:FALSE
SUMMARY:OC Cajun Food and Music Celebration
DESCRIPTION:The OC Cajun Food & Music Celebration - To Benefit Community Action Partnership of Orange County and Our OC Food Bank.\n\n\n\nThe first ever OC Cajun Food and Music Celebration will host a variety of local restaurants\, wineries\, and breweries highlighting their signature dishes and drinks\, all celebrating the amazing cross cultural influences of Louisiana and Orange County. All attendees will have the opportunity to taste samples of food and beverages from vendors\, which is all included in the one admission price of your ticket. The event will also feature live zydeco/Cajun bands to create an unforgettable family-friendly experience.
X-ALT-DESC;FMTTYPE=text/html:<span style="color:#000000\;">The OC Cajun Food &amp\; Music Celebration - To Benefit Community Action Partnership of Orange County and Our OC Food Bank.<br />\n<br />\n<span style="font-family: Helvetica\, Arial\; font-size: 14px\; text-align: center\;">The first ever OC Cajun Food and Music Celebration will host a variety of local restaurants\, wineries\, and breweries highlighting their signature dishes and drinks\, all celebrating the amazing cross cultural influences of Louisiana and Orange County. All attendees will have the opportunity to taste samples of food and beverages from vendors\, which is all included in the one admission price of your ticket.&nbsp\;The event will also feature live zydeco/Cajun bands to create an unforgettable family-friendly experience.</span></span>
LOCATION:Mile Square Park Field D 16400 Brookhurst St. Fountain Valley\, CA 92841
UID:e.1315.6176
SEQUENCE:3
DTSTAMP:20260420T013919Z
URL:http://member.gardengrovechamber.com/events/details/oc-cajun-food-and-music-celebration-6176
END:VEVENT

END:VCALENDAR
