BEGIN:VCALENDAR
VERSION:2.0
PRODID:-//ChamberMaster//Event Calendar 2.0//EN
METHOD:PUBLISH
X-PUBLISHED-TTL:P3D
REFRESH-INTERVAL:P3D
CALSCALE:GREGORIAN
BEGIN:VEVENT
DTSTART:20160317T000000Z
DTEND:20160317T040000Z
X-MICROSOFT-CDO-ALLDAYEVENT:FALSE
SUMMARY:OC's Largest Mixer XIII
DESCRIPTION:Join Orange County Chambers of Commerce and business organizations for the ultimate business networking event! Mix and mingle with 3000 business people and 250 exhibitors representing hundreds of industries and companies in and around Orange County.\n\n\n\nThe 13th Annual Orange County's Largest Mixer is a great opportunity to reach small to large companies\, meet new clients and learn how the different chambers of commerce and business organizations can make your business grow.
X-ALT-DESC;FMTTYPE=text/html:<span style="font-size:14px\;"><strong><em>Join O</em></strong><strong style="line-height: 20.7999992370605px\;"><em>range County Chambers of Commerce and business </em></strong><strong style="line-height: 20.7999992370605px\;"><em>organizations</em></strong>&nbsp\;for the ultimate business networking event! Mix and mingle with 3000 business people and 250 exhibitors representing hundreds of industries and companies in and around Orange County.<br />\n<br />\nThe <strong><em>13th Annual Orange County&#39\;s Largest Mixer</em></strong> is a great opportunity to reach small to large companies\, meet new clients and learn how the different chambers of commerce and business organizations can make your business grow.</span>
LOCATION:OC Fair & Event Center 88 Fair Drive Costa Mesa\, CA 92626
UID:e.1315.4704
SEQUENCE:3
DTSTAMP:20260421T024016Z
URL:http://member.gardengrovechamber.com/events/details/oc-s-largest-mixer-xiii-03-16-2016-4704
END:VEVENT

END:VCALENDAR
