BEGIN:VCALENDAR
VERSION:2.0
PRODID:-//ChamberMaster//Event Calendar 2.0//EN
METHOD:PUBLISH
X-PUBLISHED-TTL:P3D
REFRESH-INTERVAL:P3D
CALSCALE:GREGORIAN
BEGIN:VEVENT
DTSTART:20161120T060000Z
DTEND:20161120T073000Z
X-MICROSOFT-CDO-ALLDAYEVENT:FALSE
SUMMARY:OC Streetcar Community Open House
DESCRIPTION:The Orange County Transportation Authority (OCTA) is hosting two community open houses.\n\nCome See the Design Concepts for the OC Streetcar Stops and Vehicle Branding on November 16 or 19.Stop by anytime during the open houses to see the latest on the:\n\n	OC Streetcar stop design concepts\;\n	OC Streetcar vehicle graphics/branding\;\n	Project status and milestones\; and\n	Share your thoughts with OCTA and the design team.  \n\n Both meetings will have the same agenda and provide the same information\, please attend the meeting that's most convenient to you.
X-ALT-DESC;FMTTYPE=text/html:The Orange County Transportation Authority (OCTA) is hosting two community open houses.<br />\nCome See the Design Concepts for the OC Streetcar Stops and Vehicle Branding on November 16 or 19.Stop by anytime during the open houses&nbsp\;to see the latest on the:\n<ul>\n	<li>OC&nbsp\;Streetcar stop design concepts\;</li>\n	<li>OC Streetcar vehicle graphics/branding\;</li>\n	<li>Project status and milestones\; and</li>\n	<li>Share your thoughts with&nbsp\;OCTA&nbsp\;and the design team. &nbsp\;</li>\n</ul>\n&#8203\;Both meetings will have the same agenda and provide the same information\, please attend the meeting that&rsquo\;s most convenient to you.
LOCATION:Lydia Romero-Cruz Elementary School 1512 W. Santa Ana Blvd. Santa Ana\, CA 91703
UID:e.1315.6036
SEQUENCE:3
DTSTAMP:20260420T134119Z
URL:http://member.gardengrovechamber.com/events/details/oc-streetcar-community-open-house-6036
END:VEVENT

END:VCALENDAR
