BEGIN:VCALENDAR
VERSION:2.0
PRODID:-//ChamberMaster//Event Calendar 2.0//EN
METHOD:PUBLISH
X-PUBLISHED-TTL:P3D
REFRESH-INTERVAL:P3D
CALSCALE:GREGORIAN
BEGIN:VEVENT
DTSTART:20170513T170000Z
DTEND:20170513T183000Z
X-MICROSOFT-CDO-ALLDAYEVENT:FALSE
SUMMARY:OC Streetcar Open Community Open House
DESCRIPTION:The Orange County Transportation Authority (OCTA) is hosting two community open houses for the OC Streetcar project. Stop by any time during the open houses on May 9 and 13 to learn the latest work on the project\, including updates on the maintenance and storage facility\, stop design effort\, project schedule and more.\n\n\n\nTuesday\, May 9\, 6:00   7:30 p.m.\, Ebell Club\, 625 French Street\, Santa Ana\n\n\n\nSaturday\, May 13\, 10:00   11:30 a.m.\, Lydia Romero-Cruz Elementary School\, 1512 W. Santa Ana Boulevard\, Santa Ana\n\n\n\nBoth open houses will provide the same information. Spanish interpreters will be available.\n\n\n\nFor more information and to schedule a speakers bureau for a community organization\, contact Tresa Oliveri\, Outreach Manager\, at (714) 560-
X-ALT-DESC;FMTTYPE=text/html:The Orange County Transportation Authority (OCTA) is hosting two community open houses for the OC Streetcar project. Stop by any time during the open houses on May 9 and 13 to learn the latest work on the project\, including updates on the maintenance and storage facility\, stop design effort\, project schedule and more.<br />\n<br />\nTuesday\, May 9\, 6:00 &ndash\; 7:30 p.m.\, Ebell Club\, 625 French Street\, Santa Ana<br />\n<br />\nSaturday\, May 13\, 10:00 &ndash\; 11:30 a.m.\, Lydia Romero-Cruz Elementary School\, 1512 W. Santa Ana Boulevard\, Santa Ana<br />\n<br />\nBoth open houses will provide the same information. Spanish interpreters will be available.<br />\n<br />\nFor more information and to schedule a speakers bureau for a community organization\, contact Tresa Oliveri\, Outreach Manager\, at (714) 560-
LOCATION:Lydia Romero-Cruz Elementary School 1512 W. Santa Ana Boulevard Santa Ana\, CA
UID:e.1315.6152
SEQUENCE:3
DTSTAMP:20260420T044524Z
URL:http://member.gardengrovechamber.com/events/details/oc-streetcar-open-community-open-house-6152
END:VEVENT

END:VCALENDAR
