BEGIN:VCALENDAR
VERSION:2.0
PRODID:-//ChamberMaster//Event Calendar 2.0//EN
METHOD:PUBLISH
X-PUBLISHED-TTL:P3D
REFRESH-INTERVAL:P3D
CALSCALE:GREGORIAN
BEGIN:VEVENT
DTSTART:20190621T170000Z
DTEND:20190621T190000Z
X-MICROSOFT-CDO-ALLDAYEVENT:FALSE
SUMMARY:On-Site Recruitment
DESCRIPTION:Gaulden & Fischer Consulting Group will be conducting on-site interviews at the Garden Grove One-Stop Center. Bring Driver's License and Social Security Card and/or Passport if you are not currently registered with the Garden Grove One-Stop Center\n\nHIRING ARMED AND UNARMED SECURITY GUARDS IN ORANGE COUNTY PAYS UP TO $18.50 PER HOUR DOE.\n\nPLEASE CALL 714-241-4900 FOR DETAILED DIRECTIONS\n\nRegistration at www.CalJobs.ca.gov is required prior to event.
X-ALT-DESC;FMTTYPE=text/html:Gaulden &amp\; Fischer Consulting Group will be conducting on-site interviews at the Garden Grove One-Stop Center. Bring Driver&rsquo\;s License and Social Security Card and/or Passport if you are not currently registered with the Garden Grove One-Stop Center<br />\nHIRING ARMED AND UNARMED SECURITY GUARDS IN ORANGE COUNTY PAYS UP TO $18.50 PER HOUR DOE.<br />\nPLEASE CALL 714-241-4900 FOR DETAILED DIRECTIONS<br />\nRegistration at www.CalJobs.ca.gov is required prior to event.
LOCATION:Garden Grove One Stop Center 7077 Orangewood Ave.\, Suite 200 Garden Grove\, CA. 92841
UID:e.1315.6627
SEQUENCE:3
DTSTAMP:20260420T120533Z
URL:http://member.gardengrovechamber.com/events/details/on-site-recruitment-6627
END:VEVENT

END:VCALENDAR
