BEGIN:VCALENDAR
VERSION:2.0
PRODID:-//ChamberMaster//Event Calendar 2.0//EN
METHOD:PUBLISH
X-PUBLISHED-TTL:P3D
REFRESH-INTERVAL:P3D
CALSCALE:GREGORIAN
BEGIN:VEVENT
DTSTART;VALUE=DATE:20140220
DTEND;VALUE=DATE:20140221
TRANSP:TRANSPARENT
X-MICROSOFT-CDO-ALLDAYEVENT:TRUE
SUMMARY:One Year Anniversary at Zlaket's
DESCRIPTION:It is the One Year Anniversary of the KFI AM.640 CASH MOB that was at Zlaket's Market here on Main Street Garden Grove.  Come celebrate with them and enjoy $6.40 Sandwich Specials and Classic Soda Specials.
X-ALT-DESC;FMTTYPE=text/html:<strong>It is the One Year Anniversary of the KFI AM.640 CASH MOB that was at Zlaket&#39\;s Market here on Main Street Garden Grove. &nbsp\;Come celebrate with them and enjoy $6.40 Sandwich Specials and Classic Soda Specials.</strong>
LOCATION:Zlaket's Market 12921 Main Street Garden Grove\, CA 92840
UID:e.1315.1494
SEQUENCE:3
DTSTAMP:20260425T001825Z
URL:http://member.gardengrovechamber.com/events/details/one-year-anniversary-at-zlaket-s-02-20-2014-1494
END:VEVENT

END:VCALENDAR
