BEGIN:VCALENDAR
VERSION:2.0
PRODID:-//ChamberMaster//Event Calendar 2.0//EN
METHOD:PUBLISH
X-PUBLISHED-TTL:P3D
REFRESH-INTERVAL:P3D
CALSCALE:GREGORIAN
BEGIN:VEVENT
DTSTART:20170531T233000Z
DTEND:20170601T020000Z
X-MICROSOFT-CDO-ALLDAYEVENT:FALSE
SUMMARY:Open House AlzOC & Acacia
DESCRIPTION:Alzheimer's Orange County & Acacia Adult Day Services are merging!\n\n\n\nYou're invited to an Open House.\n\n\n\nStop by anytime on May 31\, 2017 from 4:30 pm to 7:00 pm at Acacia Adult Day Services. \n\n\n\nMeet the team\, enjoy refreshments\, and learn about the exciting new ways our collaboration will help even more of Orange County's older adults.
X-ALT-DESC;FMTTYPE=text/html:Alzheimer&#39\;s Orange County &amp\; Acacia Adult Day Services are merging!<br />\n<br />\nYou&#39\;re invited to an Open House.<br />\n<br />\nStop by anytime on May 31\, 2017 from 4:30 pm to 7:00 pm at Acacia Adult Day Services.&nbsp\;<br />\n<br />\nMeet the team\, enjoy refreshments\, and learn about the exciting new ways our collaboration will help even more of Orange County&#39\;s older adults.&nbsp\;&nbsp\;&nbsp\;&nbsp\;&nbsp\;
LOCATION:11391 Acacia Parkway Garden Grove\, CA 92840
UID:e.1315.6157
SEQUENCE:3
DTSTAMP:20260420T062243Z
URL:http://member.gardengrovechamber.com/events/details/open-house-alzoc-acacia-6157
END:VEVENT

END:VCALENDAR
