BEGIN:VCALENDAR
VERSION:2.0
PRODID:-//ChamberMaster//Event Calendar 2.0//EN
METHOD:PUBLISH
X-PUBLISHED-TTL:P3D
REFRESH-INTERVAL:P3D
CALSCALE:GREGORIAN
BEGIN:VEVENT
DTSTART:20140320T000000Z
DTEND:20140320T040000Z
X-MICROSOFT-CDO-ALLDAYEVENT:FALSE
SUMMARY:Orange County's Largest Mixer XI
DESCRIPTION:LARGEST MIXER  INFORMATION: Orange County's Largest Mixer XI Wednesday\, March 19\, 2014 5 p.m. - 9 p.m. OC Fair & Event Center\, 88 Fair Dr.\, Costa Mesa\, CA 92626. Join Orange County chambers of commerce and business organizations for the ultimate business networking event! Mix and mingle with over 3000 business people and 300 exhibitors representing hundreds of industries and companies in and around Orange County. The 11th Annual Orange County's Largest Mixer is a great opportunity to reach small to large companies\, meet new clients and learn how the different chambers of commerce and business organizations that can make your business grow. Mixer admission is $20 per person (no credit cards at the door). For exhibitor or general information\, call 949-338-8338 or http://www.ocmixer.com
X-ALT-DESC;FMTTYPE=text/html:LARGEST MIXER&reg\; INFORMATION: Orange County&#39\;s Largest Mixer XI Wednesday\, March 19\, 2014 5 p.m. - 9 p.m. OC Fair &amp\; Event Center\, 88 Fair Dr.\, Costa Mesa\, CA 92626. Join Orange County chambers of commerce and business organizations for the ultimate business networking event! Mix and mingle with over 3000 business people and 300 exhibitors representing hundreds of industries and companies in and around Orange County. The 11th Annual Orange County&#39\;s Largest Mixer is a great opportunity to reach small to large companies\, meet new clients and learn how the different chambers of commerce and business organizations that can make your business grow. Mixer admission is $20 per person (no credit cards at the door). For exhibitor or general information\, call 949-338-8338 or http://www.ocmixer.com
LOCATION:OC Fair & Event Center 88 Fair Drive Costa Mesa\, CA 92626
UID:e.1315.1445
SEQUENCE:3
DTSTAMP:20260424T205225Z
URL:http://member.gardengrovechamber.com/events/details/orange-county-s-largest-mixer-xi-03-19-2014-1445
END:VEVENT

END:VCALENDAR
