BEGIN:VCALENDAR
VERSION:2.0
PRODID:-//ChamberMaster//Event Calendar 2.0//EN
METHOD:PUBLISH
X-PUBLISHED-TTL:P3D
REFRESH-INTERVAL:P3D
CALSCALE:GREGORIAN
BEGIN:VEVENT
DTSTART:20131203T154500Z
DTEND:20131203T163000Z
X-MICROSOFT-CDO-ALLDAYEVENT:FALSE
SUMMARY:Organization Works
DESCRIPTION:Come join us for coffee and donuts and get some tips on how to organize your office at this seminar being offered here at the Chamber Office by one of our Members\, Susie Oien\, of Organization Works.
X-ALT-DESC;FMTTYPE=text/html:Come join us for coffee and donuts and get some tips on how to organize your office at this seminar being offered here at the Chamber Office by one of our Members\, Susie Oien\, of Organization Works.
LOCATION:Garden Grove Chamber of Commerce 12866 Main Street\, Suite 102 Garden Grove\, CA 92840
UID:e.1315.1321
SEQUENCE:3
DTSTAMP:20260425T015408Z
URL:http://member.gardengrovechamber.com/events/details/organization-works-12-03-2013-1321
END:VEVENT

END:VCALENDAR
