BEGIN:VCALENDAR
VERSION:2.0
PRODID:-//ChamberMaster//Event Calendar 2.0//EN
METHOD:PUBLISH
X-PUBLISHED-TTL:P3D
REFRESH-INTERVAL:P3D
CALSCALE:GREGORIAN
BEGIN:VEVENT
DTSTART:20161015T030000Z
DTEND:20161015T050000Z
X-MICROSOFT-CDO-ALLDAYEVENT:FALSE
SUMMARY:Outdoor Movie Under the Stars - Singin' in the Rain
DESCRIPTION:Singin' in the Rain -A spoof of the turmoil that afflicted the movie industry in the late 1920s when movies went from silent to sound. When two silent movie stars'\, Don Lockwood and Lina Lamont\, latest movie is made into a musical a chorus girl is brought in to dub Lina's speaking and singing. Don is on top of the world until Lina finds out.
X-ALT-DESC;FMTTYPE=text/html:<span style="color:#000000\;"><strong>Singin&#39\; in the Rain</strong>&nbsp\;-<span style="font-family: &quot\;Source Sans Pro&quot\;\; font-size: 16px\;">A spoof of the turmoil that afflicted the movie industry in the late 1920s when movies went from silent to sound. When two silent movie stars&#39\;\, Don Lockwood and Lina Lamont\, latest movie is made into a musical a chorus girl is brought in to dub Lina&#39\;s speaking and singing. Don is on top of the world until Lina finds out.</span></span>
LOCATION:The StrawberryBowl 12762 Main Street Garden Grove\, CA 92840
UID:e.1315.6011
SEQUENCE:3
DTSTAMP:20260420T152436Z
URL:http://member.gardengrovechamber.com/events/details/outdoor-movie-under-the-stars-singin-in-the-rain-6011
END:VEVENT

END:VCALENDAR
