BEGIN:VCALENDAR
VERSION:2.0
PRODID:-//ChamberMaster//Event Calendar 2.0//EN
METHOD:PUBLISH
X-PUBLISHED-TTL:P3D
REFRESH-INTERVAL:P3D
CALSCALE:GREGORIAN
BEGIN:VEVENT
DTSTART:20161029T030000Z
DTEND:20161029T050000Z
X-MICROSOFT-CDO-ALLDAYEVENT:FALSE
SUMMARY:Outdoor Movie Under the Stars - To Kill a Mockingbird
DESCRIPTION:To Kill a Mockingbird - Atticus Finch\, a lawyer in the Depression-era South\, defends a black man against an undeserved rape charge\, and his kids against prejudice.\n\nDirector: Robert Mulligan\n\nWriters: Harper Lee (based on her novel "To Kill a Mockingbird")\, Horton Foote (screenplay)\n\nStars: Gregory Peck\, John Megna\, Frank Overton
X-ALT-DESC;FMTTYPE=text/html:<span style="color:#000000\;"><span style="font-size:12px\;"><span style="font-family:arial\;"><b>To Kill a Mockingbird&nbsp\;</b>-&nbsp\;Atticus Finch\, a lawyer in the Depression-era South\, defends a black man against an undeserved rape charge\, and his kids against prejudice.<br style="box-sizing: border-box\; margin: 0px\; padding: 0px\; color: rgb(153\, 153\, 153)\; font-family: &quot\;Source Sans Pro&quot\;\; font-size: 16px\; background-color: rgb(247\, 246\, 244)\;" />\nDirector: Robert Mulligan<br style="box-sizing: border-box\; margin: 0px\; padding: 0px\; color: rgb(153\, 153\, 153)\; font-family: &quot\;Source Sans Pro&quot\;\; font-size: 16px\; background-color: rgb(247\, 246\, 244)\;" />\nWriters: Harper Lee (based on her novel &quot\;To Kill a Mockingbird&quot\;)\, Horton Foote (screenplay)<br style="box-sizing: border-box\; margin: 0px\; padding: 0px\; color: rgb(153\, 153\, 153)\; font-family: &quot\;Source Sans Pro&quot\;\; font-size: 16px\; background-color: rgb(247\, 246\, 244)\;" />\nStars: Gregory Peck\, John Megna\, Frank Overton</span></span></span>
LOCATION:The StrawberryBowl 12762 Main Street Garden Grove\, CA 92840
UID:e.1315.6013
SEQUENCE:3
DTSTAMP:20260420T153443Z
URL:http://member.gardengrovechamber.com/events/details/outdoor-movie-under-the-stars-to-kill-a-mockingbird-6013
END:VEVENT

END:VCALENDAR
