BEGIN:VCALENDAR
VERSION:2.0
PRODID:-//ChamberMaster//Event Calendar 2.0//EN
METHOD:PUBLISH
X-PUBLISHED-TTL:P3D
REFRESH-INTERVAL:P3D
CALSCALE:GREGORIAN
BEGIN:VEVENT
DTSTART:20170929T020000Z
DTEND:20170929T040000Z
X-MICROSOFT-CDO-ALLDAYEVENT:FALSE
SUMMARY:Playground Fundraising Gala
DESCRIPTION:Presented by St. Columban School\n\nPlayground Fundraising Gala\n\n\n\nTickets on sale NOW! Visit the school office or church choir loft to purchase. $20.00 and $40.00 All Proceeds go towards a new playground. \n\n\n\nPerformance at Garden Grove United Methodist Church\n\n\n\nFEATURING: St. Columban School "Colts" Choir\, Kazoo and Drum Corps\, first grade students\, St. Columban Staff\, Monsignor Tuan\, Fr. Philip Smith\, Sister Brid\, and Garden Grove City Councilman John O'Neill\n\n\n\nPerformance on September 28\, 2017 at 7:00 pm!
X-ALT-DESC;FMTTYPE=text/html:Presented by St. Columban School<br />\nPlayground Fundraising Gala<br />\n<br />\nTickets on sale NOW! Visit the school office or church choir loft to purchase. $20.00 and $40.00 All Proceeds go towards a new playground.&nbsp\;<br />\n<br />\nPerformance at Garden Grove United Methodist Church<br />\n<br />\nFEATURING: St. Columban&nbsp\;School &quot\;Colts&quot\; Choir\, Kazoo and Drum Corps\, first grade students\, St. Columban&nbsp\;Staff\, Monsignor Tuan\, Fr. Philip Smith\, Sister Brid\, and Garden Grove City Councilman John O&#39\;Neill<br />\n<br />\nPerformance on September 28\, 2017 at 7:00 pm!
LOCATION:Garden Grove United Methodist Church 12741 Main Street Garden Grove\, CA 92840
UID:e.1315.6220
SEQUENCE:3
DTSTAMP:20260419T235747Z
URL:http://member.gardengrovechamber.com/events/details/playground-fundraising-gala-6220
END:VEVENT

END:VCALENDAR
