BEGIN:VCALENDAR
VERSION:2.0
PRODID:-//ChamberMaster//Event Calendar 2.0//EN
METHOD:PUBLISH
X-PUBLISHED-TTL:P3D
REFRESH-INTERVAL:P3D
CALSCALE:GREGORIAN
BEGIN:VEVENT
DTSTART:20150118T010000Z
DTEND:20150118T060000Z
X-MICROSOFT-CDO-ALLDAYEVENT:FALSE
SUMMARY:Poker Night at Garden Grove Lions Den
DESCRIPTION:The Miss Garden Grove Scholarship Organization and Garden Grove Host Lions Club invite you to a joint Texas Hold-em poker tournament. $40 entry fee includes $1\,000 in chips\, food\, drink\, raffle and a cash bar.\n\n\n\nEntry Deadline:  January 10\, 2015\n\n\n\nProceeds benefit the Miss Garden Grove Scholarship Fund and the Garden Grove Host Lions Club Projects and local charities.
X-ALT-DESC;FMTTYPE=text/html:<em>The <strong>Miss Garden Grove Scholarship Organization</strong></em> and <strong><em>Garden Grove Host</em> <em>Lions Club</em></strong> invite you to a <strong>joint Texas Hold-em poker tournamen</strong>t. $40 entry fee includes $1\,000 in chips\, food\, drink\, raffle and a cash bar.<br />\n<br />\n<span style="color:#FF0000\;"><strong>Entry Deadline: &nbsp\;January 10\, 2015</strong></span><br />\n<br />\n<strong><em>Proceeds benefit the Miss Garden Grove Scholarship Fund and the Garden Grove Host Lions Club Projects and local charities.</em></strong>
LOCATION:Garden Grove Lions Den 9860 Larson Avenue (past Kiwanisland and Boys & Girls Club)
UID:e.1315.2454
SEQUENCE:3
DTSTAMP:20260424T061439Z
URL:http://member.gardengrovechamber.com/events/details/poker-night-at-garden-grove-lions-den-01-17-2015-2454
END:VEVENT

END:VCALENDAR
