BEGIN:VCALENDAR
VERSION:2.0
PRODID:-//ChamberMaster//Event Calendar 2.0//EN
METHOD:PUBLISH
X-PUBLISHED-TTL:P3D
REFRESH-INTERVAL:P3D
CALSCALE:GREGORIAN
BEGIN:VEVENT
DTSTART:20151015T003000Z
DTEND:20151015T020000Z
X-MICROSOFT-CDO-ALLDAYEVENT:FALSE
SUMMARY:Ribbon Cutting at California Fuels & Lubricants at 5:30
DESCRIPTION:Join us in celebration of California Fuels & Lubricants new facility! Food and alcohol will be provided by Carolina's Italian Restaurant. To promote your business further bring a door prize and lots of business cards.
X-ALT-DESC;FMTTYPE=text/html:Join us in celebration of California Fuels &amp\; Lubricants new facility! Food and alcohol will be provided by Carolina&#39\;s Italian Restaurant. To promote your business further bring a door prize and lots of business cards.&nbsp\;&nbsp\;&nbsp\;&nbsp\;&nbsp\;
LOCATION:11621 Westminster Ave Garden Grove\, CA 92843 (Entrance is off of A Better Way)
UID:e.1315.4699
SEQUENCE:3
DTSTAMP:20260423T163827Z
URL:http://member.gardengrovechamber.com/events/details/ribbon-cutting-at-california-fuels-lubricants-at-5-30-10-14-2015-4699
END:VEVENT

END:VCALENDAR
