BEGIN:VCALENDAR
VERSION:2.0
PRODID:-//ChamberMaster//Event Calendar 2.0//EN
METHOD:PUBLISH
X-PUBLISHED-TTL:P3D
REFRESH-INTERVAL:P3D
CALSCALE:GREGORIAN
BEGIN:VEVENT
DTSTART:20170106T013000Z
DTEND:20170106T023000Z
X-MICROSOFT-CDO-ALLDAYEVENT:FALSE
SUMMARY:Ribbon Cutting Ceremony for Design A Smile
DESCRIPTION:Help us welcome Design A Smile to the Garden Grove Chamber of Commerce with a Ribbon Cutting Ceremony on Thursday\, January 5\, 2017. The ceremony will be at 6:00 pm. Light refreshments will be provided.
X-ALT-DESC;FMTTYPE=text/html:Help us welcome Design A Smile to the Garden Grove Chamber of Commerce with a Ribbon Cutting Ceremony on Thursday\, January 5\, 2017. The ceremony will be at 6:00 pm. Light refreshments will be provided.&nbsp\;
LOCATION:Design A Smile 10722 Katella Avenue #2 Anaheim\, CA 92804
UID:e.1315.6051
SEQUENCE:3
DTSTAMP:20260420T122302Z
URL:http://member.gardengrovechamber.com/events/details/ribbon-cutting-ceremony-for-design-a-smile-6051
END:VEVENT

END:VCALENDAR
