BEGIN:VCALENDAR
VERSION:2.0
PRODID:-//ChamberMaster//Event Calendar 2.0//EN
METHOD:PUBLISH
X-PUBLISHED-TTL:P3D
REFRESH-INTERVAL:P3D
CALSCALE:GREGORIAN
BEGIN:VEVENT
DTSTART:20160415T180000Z
DTEND:20160415T190000Z
X-MICROSOFT-CDO-ALLDAYEVENT:FALSE
SUMMARY:Ribbon Cutting Ceremony for Sabroso! Mexican Grill
DESCRIPTION:Voted as one of Orange County's top 100 restaurants\, Sabroso! Mexican Grill is having a Ribbon Cutting Ceremony for their new Take Out and Catering location. Doors open at 11:00 a.m. Ribbon cutting will be at 11:30 a.m. Refreshments will be provided. \n\n\n\nBe sure to RSVP to this event
X-ALT-DESC;FMTTYPE=text/html:Voted as one of Orange County&#39\;s top 100&nbsp\;restaurants\, Sabroso! Mexican Grill is having a Ribbon Cutting Ceremony for their new Take Out and Catering location. Doors open at 11:00 a.m. Ribbon cutting will be at 11:30 a.m. Refreshments will be provided.&nbsp\;<br />\n<br />\nBe sure to RSVP to this event
LOCATION:Sabroso! Mexican Grill 13113 Harbor Blvd. Garden Grove\, 92843 (Just a few doors down from their restaurant)
UID:e.1315.5133
SEQUENCE:3
DTSTAMP:20260421T005651Z
URL:http://member.gardengrovechamber.com/events/details/ribbon-cutting-ceremony-for-sabroso-mexican-grill-04-15-2016-5133
END:VEVENT

END:VCALENDAR
