BEGIN:VCALENDAR
VERSION:2.0
PRODID:-//ChamberMaster//Event Calendar 2.0//EN
METHOD:PUBLISH
X-PUBLISHED-TTL:P3D
REFRESH-INTERVAL:P3D
CALSCALE:GREGORIAN
BEGIN:VEVENT
DTSTART:20160521T190000Z
DTEND:20160521T190000Z
X-MICROSOFT-CDO-ALLDAYEVENT:FALSE
SUMMARY:Ribbon Cutting Ceremony for The Wharf
DESCRIPTION:Join us in celebration to welcome The Wharf to Garden Grove and the surrounding areas with a Ribbon Cutting Ceremony. Refreshments will be provided at this new establishments.
X-ALT-DESC;FMTTYPE=text/html:Join us in celebration to welcome The Wharf to Garden Grove and the surrounding areas with a Ribbon Cutting Ceremony. Refreshments will be provided at this new establishments.&nbsp\;
LOCATION:The Wharf 12941 Main Street Garden Grove\, CA 92840
UID:e.1315.5676
SEQUENCE:3
DTSTAMP:20260421T010438Z
URL:http://member.gardengrovechamber.com/events/details/ribbon-cutting-ceremony-for-the-wharf-05-21-2016-5676
END:VEVENT

END:VCALENDAR
