BEGIN:VCALENDAR
VERSION:2.0
PRODID:-//ChamberMaster//Event Calendar 2.0//EN
METHOD:PUBLISH
X-PUBLISHED-TTL:P3D
REFRESH-INTERVAL:P3D
CALSCALE:GREGORIAN
BEGIN:VEVENT
DTSTART:20160330T200000Z
DTEND:20160330T220000Z
X-MICROSOFT-CDO-ALLDAYEVENT:FALSE
SUMMARY:Ribbon Cutting for American Metal Bearing Co.
DESCRIPTION:Come join us at this Ribbon Cutting for American Metal Bearing's new Okuma Building!
X-ALT-DESC;FMTTYPE=text/html:Come join us at this Ribbon Cutting for American Metal Bearing&#39\;s new Okuma Building!
LOCATION:7191 Acacia Ave Garden Grove\, CA 92841
UID:e.1315.5109
SEQUENCE:3
DTSTAMP:20260421T041824Z
URL:http://member.gardengrovechamber.com/events/details/ribbon-cutting-for-american-metal-bearing-co-03-30-2016-5109
END:VEVENT

END:VCALENDAR
