BEGIN:VCALENDAR
VERSION:2.0
PRODID:-//ChamberMaster//Event Calendar 2.0//EN
METHOD:PUBLISH
X-PUBLISHED-TTL:P3D
REFRESH-INTERVAL:P3D
CALSCALE:GREGORIAN
BEGIN:VEVENT
DTSTART:20150123T220000Z
DTEND:20150124T000000Z
X-MICROSOFT-CDO-ALLDAYEVENT:FALSE
SUMMARY:Ribbon Cutting for Brookdale Valley View
DESCRIPTION:Come join us for Ribbon Cutting for Brookdale Valley View\, recently known as Emeritus at Valley View.  There will be food and drink and a tour of their newly named community.
X-ALT-DESC;FMTTYPE=text/html:Come join us for Ribbon Cutting for Brookdale Valley View\, recently known as Emeritus at Valley View. &nbsp\;There will be food and drink and a tour of their newly named community. &nbsp\;
LOCATION:Brookdale Valley View 5900 Chapman Avenue Garden Grove\, CA 92845
UID:e.1315.2288
SEQUENCE:3
DTSTAMP:20260424T061336Z
URL:http://member.gardengrovechamber.com/events/details/ribbon-cutting-for-brookdale-valley-view-01-23-2015-2288
END:VEVENT

END:VCALENDAR
