BEGIN:VCALENDAR
VERSION:2.0
PRODID:-//ChamberMaster//Event Calendar 2.0//EN
METHOD:PUBLISH
X-PUBLISHED-TTL:P3D
REFRESH-INTERVAL:P3D
CALSCALE:GREGORIAN
BEGIN:VEVENT
DTSTART:20140527T233000Z
DTEND:20140528T010000Z
X-MICROSOFT-CDO-ALLDAYEVENT:FALSE
SUMMARY:Ribbon Cutting for CU SoCal
DESCRIPTION:Golden West Cities Federal Credit Union has merged into Credit Union of Southern California (CU SoCal) and invites you to celebrate with a Ribbon Cutting and Grand Opening.  Be sure to come early since the actual ribbon cutting will take place at 5:00 pm.  So come and enjoy some refreshments and meet other members of the community.  Don't forget to bring your business cards.
X-ALT-DESC;FMTTYPE=text/html:Golden West Cities Federal Credit Union has merged into Credit Union of Southern California (CU SoCal) and invites you to celebrate with a Ribbon Cutting and Grand Opening. &nbsp\;Be sure to come early since the actual ribbon cutting will take place at 5:00 pm. &nbsp\;So come and enjoy some refreshments and meet other members of the community. <strong><em>&nbsp\;Don&#39\;t forget to bring your business cards.</em></strong>
LOCATION:Credit Union of Southern California 11390 Stanford Avenue Garden Grove\, CA 92840
UID:e.1315.1500
SEQUENCE:3
DTSTAMP:20260424T174533Z
URL:http://member.gardengrovechamber.com/events/details/ribbon-cutting-for-cu-socal-05-27-2014-1500
END:VEVENT

END:VCALENDAR
