BEGIN:VCALENDAR
VERSION:2.0
PRODID:-//ChamberMaster//Event Calendar 2.0//EN
METHOD:PUBLISH
X-PUBLISHED-TTL:P3D
REFRESH-INTERVAL:P3D
CALSCALE:GREGORIAN
BEGIN:VEVENT
DTSTART:20150613T170000Z
DTEND:20150614T010000Z
X-MICROSOFT-CDO-ALLDAYEVENT:FALSE
SUMMARY:Sam's Club - Join and Save
DESCRIPTION:Sam's Club is having a Join and Save event in the club. Anyone who Signs up or renews their card will get a instant saving package.
X-ALT-DESC;FMTTYPE=text/html:<span style="color: rgb(34\, 34\, 34)\; font-family: arial\, sans-serif\; font-size: 12.8000001907349px\; line-height: normal\;">Sam&#39\;s Club is having a Join and Save event in the club.&nbsp\;</span><span style="color: rgb(34\, 34\, 34)\; font-family: arial\, sans-serif\; font-size: 12.8000001907349px\; line-height: normal\;">Anyone who Signs up or renews their card will get a instant saving package.</span>
LOCATION:Sam's Club
UID:e.1315.2941
SEQUENCE:3
DTSTAMP:20260423T223112Z
URL:http://member.gardengrovechamber.com/events/details/sam-s-club-join-and-save-06-13-2015-2941
END:VEVENT

END:VCALENDAR
