BEGIN:VCALENDAR
VERSION:2.0
PRODID:-//ChamberMaster//Event Calendar 2.0//EN
METHOD:PUBLISH
X-PUBLISHED-TTL:P3D
REFRESH-INTERVAL:P3D
CALSCALE:GREGORIAN
BEGIN:VEVENT
DTSTART:20150818T010000Z
DTEND:20150818T040000Z
X-MICROSOFT-CDO-ALLDAYEVENT:FALSE
SUMMARY:SCORE: Demystifying the Commercial Leasing Process
DESCRIPTION:Commercial building owners & their agents each have a strong background in negotiating leases\, which most commercial tenants lack. This course can help equalize the situation by showing you what to do and how to proceed when you find an office\, industrial or retail space to lease. Leasing commercial property is not overly complex\, but it does take knowledge and skill. Whether you are planning to lease a commercial property on your own or use the services of a qualified broker\, this seminar is designed to take you through the steps of the process and by doing so level the playing field. \n\n\n\nHeather Francine\, Vice President of Sperry Commercial in Irvine\, CA. presents this workshop. She specializes in commercial leasing in Orange County as well as northern San Diego County. Heather is passionate about developing and maintaining strong\, client relationships while representing the business owners in her community. Her real estate career began 18 years ago and she continues to enjoy the diversity of the industry. For several years\, Heather was on the development team at Integrity Commercial Brokerage\, charged with the responsibility of strengthening client relationships and networking. Both of these areas have contributed to the exceptional reputation that Heather continues to experience in the brokerage community.\n\n\n\nHeather is a member of ICSC (International Council of Shopping Centers) and was a candidate for the John T. Riordan Scholarship for Professional Development in 2009. From 2010-2012 Heather and her business partner have been retained by the city of Yorba Linda to assist with Economic Development and Marketing for the city ? working to attract\, retain and expand business for the City. She is also a chapter member of Greater Southern California CCIM.\n\n\n\n(Registration/Check-in 5:30 to 6:00 PM)
X-ALT-DESC;FMTTYPE=text/html:Commercial building owners &amp\; their agents each have a strong background in negotiating leases\, which most commercial tenants lack. This course can help equalize the situation by showing you what to do and how to proceed when you find an office\, industrial or retail space to lease. Leasing commercial property is not overly complex\, but it does take knowledge and skill. Whether you are planning to lease a commercial property on your own or use the services of a qualified broker\, this seminar is designed to take you through the steps of the process and by doing so level the playing field.&nbsp\;<br />\n<br />\nHeather Francine\, Vice President of Sperry Commercial in Irvine\, CA. presents this workshop. She specializes in commercial leasing in Orange County as well as northern San Diego County. Heather is passionate about developing and maintaining strong\, client relationships while representing the business owners in her community. Her real estate career began 18 years ago and she continues to enjoy the diversity of the industry. For several years\, Heather was on the development team at Integrity Commercial Brokerage\, charged with the responsibility of strengthening client relationships and networking. Both of these areas have contributed to the exceptional reputation that Heather continues to experience in the brokerage community.<br />\n<br />\nHeather is a member of ICSC (International Council of Shopping Centers) and was a candidate for the John T. Riordan Scholarship for Professional Development in 2009. From 2010-2012 Heather and her business partner have been retained by the city of Yorba Linda to assist with Economic Development and Marketing for the city ? working to attract\, retain and expand business for the City. She is also a chapter member of Greater Southern California CCIM.<br />\n<br />\n(Registration/Check-in 5:30 to 6:00 PM)
LOCATION:Los Alamitos Branch - OC Public Library 12700 Montecito Seal Beach\, CA 90740
UID:e.1315.3423
SEQUENCE:3
DTSTAMP:20260423T192905Z
URL:http://member.gardengrovechamber.com/events/details/score-demystifying-the-commercial-leasing-process-08-17-2015-3423
END:VEVENT

END:VCALENDAR
