BEGIN:VCALENDAR
VERSION:2.0
PRODID:-//ChamberMaster//Event Calendar 2.0//EN
METHOD:PUBLISH
X-PUBLISHED-TTL:P3D
REFRESH-INTERVAL:P3D
CALSCALE:GREGORIAN
BEGIN:VEVENT
DTSTART:20150805T010000Z
DTEND:20150805T040000Z
X-MICROSOFT-CDO-ALLDAYEVENT:FALSE
SUMMARY:SCORE: The Secrets of Selling
DESCRIPTION:Designed for business owners\, managers\, office and sales staff\, this workshop will take you step by step through the art of selling. It is guaranteed to give you much more confidence\, a far better understanding of the sales process and help in dramatically elevating your closing ratio. Questions and challenges will be welcome.\n\n\n\nYou will learn:\n\n\n\n  Sales Process\, Step by step\n\n  How to develop an exciting elevator pitch\n\n  How to overcome "Price Too High"\n\n  Effective Probing\n\n  Dealing with Customer Complaints\n\n  Overcoming Objections\n\n  Cold Calling & Appointments\n\n  Telephone Selling\n\n  The No-No's of Selling\n\n  Managing A Sales Staff\n\n\n\nBarry McKinley of SCORE is the presenter. He has owned 10 different businesses in 5 different industries. These businesses were either purchased or started\, and he later sold them to investors\, employees\, competitors or large corporations. His entire career has been based on building companies from scratch to the point that they could be acquired. He operated his own medical sales company generating over $50 million in sales. He has sold products and services to professionals\, large and small companies\, buying groups and directly to consumers. Barry estimates that he has made 25\,000 sales presentations to groups varying from 1 to 100. He has personally hired and managed in excess of 200 sales people. He has won numerous sales awards\, contests and industry recognitions. As a SCORE mentor Barry has participated in over 2\,100 face-to-face sessions with business owners and twice that number via email counseling.\n\n\n\n(Registration/Check-in 5:30 to 6:00 PM)
X-ALT-DESC;FMTTYPE=text/html:Designed for business owners\, managers\, office and sales staff\, this workshop will take you step by step through the art of selling. It is guaranteed to give you much more confidence\, a far better understanding of the sales process and help in dramatically elevating your closing ratio. Questions and challenges will be welcome.<br />\n<br />\nYou will learn:<br />\n<br />\n&bull\; Sales Process\, Step by step<br />\n&bull\; How to develop an exciting elevator pitch<br />\n&bull\; How to overcome &ldquo\;Price Too High&rdquo\;<br />\n&bull\; Effective Probing<br />\n&bull\; Dealing with Customer Complaints<br />\n&bull\; Overcoming Objections<br />\n&bull\; Cold Calling &amp\; Appointments<br />\n&bull\; Telephone Selling<br />\n&bull\; The No-No&rsquo\;s of Selling<br />\n&bull\; Managing A Sales Staff<br />\n<br />\nBarry McKinley of SCORE is the presenter. He has owned 10 different businesses in 5 different industries. These businesses were either purchased or started\, and he later sold them to investors\, employees\, competitors or large corporations. His entire career has been based on building companies from scratch to the point that they could be acquired. He operated his own medical sales company generating over $50 million in sales. He has sold products and services to professionals\, large and small companies\, buying groups and directly to consumers. Barry estimates that he has made 25\,000 sales presentations to groups varying from 1 to 100. He has personally hired and managed in excess of 200 sales people. He has won numerous sales awards\, contests and industry recognitions. As a SCORE mentor Barry has participated in over 2\,100 face-to-face sessions with business owners and twice that number via email counseling.<br />\n<br />\n(Registration/Check-in 5:30 to 6:00 PM)
LOCATION:Anaheim Gordon Hoyt Conference Center 201 S. Anaheim Blvd. 2nd Floor Anaheim West Tower Anaheim\, CA 92805
UID:e.1315.3422
SEQUENCE:3
DTSTAMP:20260423T193039Z
URL:http://member.gardengrovechamber.com/events/details/score-the-secrets-of-selling-08-04-2015-3422
END:VEVENT

END:VCALENDAR
