BEGIN:VCALENDAR
VERSION:2.0
PRODID:-//ChamberMaster//Event Calendar 2.0//EN
METHOD:PUBLISH
X-PUBLISHED-TTL:P3D
REFRESH-INTERVAL:P3D
CALSCALE:GREGORIAN
BEGIN:VEVENT
DTSTART:20150827T010000Z
DTEND:20150827T040000Z
X-MICROSOFT-CDO-ALLDAYEVENT:FALSE
SUMMARY:SCORE: Video Marketing Success Secrets. How to Market on YouTube.
DESCRIPTION:Video marketing is powerful! YouTube is on fire! Don't get burned. Come learn the success secrets from a social media expert who has been in front of and behind the camera. \n\n\n\nLearning Objectives - In this training you will learn:\n\n\n\n  The benefits of YouTube and why you should market there\n\n  Social Media Integration and how to do it quickly\n\n  Best Case Practices for powerful branding\n\n  Practical tips to save time energy and money\n\n\n\nMark Mikelat of Building Aspirations\, the presenter for this workshop and a business growth consultant\, has extensive experience in social media and email marketing. He has successfully presented to corporations all throughout the world. Some of his email-marketing clients have included Microsoft\, Coach Luxury Brands\, Hewlett Packard and the World Wildlife Fund. His humorous programs are jam-packed with actionable and practical advice that business leaders can put into action immediately to grow their businesses. He is the author of multiple books.\n\n\n\n(Registration/Check-in 5:30 to 6:00 PM)
X-ALT-DESC;FMTTYPE=text/html:Video marketing is powerful! YouTube is on fire! Don&#39\;t get burned. Come learn the success secrets from a social media expert who has been in front of and behind the camera.&nbsp\;<br />\n<br />\nLearning Objectives - In this training you will learn:<br />\n<br />\n&bull\; The benefits of YouTube and why you should market there<br />\n&bull\; Social Media Integration and how to do it quickly<br />\n&bull\; Best Case Practices for powerful branding<br />\n&bull\; Practical tips to save time energy and money<br />\n<br />\nMark Mikelat of Building Aspirations\, the presenter for this workshop and a business growth consultant\, has extensive experience in social media and email marketing. He has successfully presented to corporations all throughout the world. Some of his email-marketing clients have included Microsoft\, Coach Luxury Brands\, Hewlett Packard and the World Wildlife Fund. His humorous programs are jam-packed with actionable and practical advice that business leaders can put into action immediately to grow their businesses. He is the author of multiple books.<br />\n<br />\n(Registration/Check-in 5:30 to 6:00 PM)
LOCATION:The Girl Cave 16897 Beach Blvd. Huntington Beach\, CA 92647
UID:e.1315.3425
SEQUENCE:3
DTSTAMP:20260423T193504Z
URL:http://member.gardengrovechamber.com/events/details/score-video-marketing-success-secrets-how-to-market-on-youtube-08-26-2015-3425
END:VEVENT

END:VCALENDAR
