BEGIN:VCALENDAR
VERSION:2.0
PRODID:-//ChamberMaster//Event Calendar 2.0//EN
METHOD:PUBLISH
X-PUBLISHED-TTL:P3D
REFRESH-INTERVAL:P3D
CALSCALE:GREGORIAN
BEGIN:VEVENT
DTSTART:20180323T223000Z
DTEND:20180323T233000Z
X-MICROSOFT-CDO-ALLDAYEVENT:FALSE
SUMMARY:Services to Benefit America's Finest
DESCRIPTION:Learn about your 2018 veteran's benefits \n\n\n\nSPEAKERS FROM ELDERLIFE FINANCIAL AND OC ELDERLAW \n\n \n\nIf you are a wartime veteran\, or the surviving spouse of a veteran\, the Veterans Aid & Attendance Benefit could be an ideal solution for financing your senior housing needs. Join us for a special presentation about eligibility requirements\, payable benefits and how to file claims.\n\n \n\n2018 Benefits (The maximum monthly benefit amounts)\n\nSingle Veteran        ..    ..$1\,830\n\n Surviving Spouse         .  ..$1\,176\n\nMarried Veteran Spouse needs care..   $1\,436\n\n Married Veteran with care needs  ...........$2\,169\n\n*Actual benefit amount is determined by the VA based on eligibility\n\n\n\nFRIDAY\, march 23\, 2018 3:30   4:30 pm                    \n\n \n\nFor reservations or more information please call (714) 636-6453
X-ALT-DESC;FMTTYPE=text/html:Learn about your 2018 veteran&rsquo\;s benefits&nbsp\;<br />\n<br />\nSPEAKERS FROM ELDERLIFE FINANCIAL AND OC ELDERLAW&nbsp\;<br />\n&nbsp\;<br />\nIf you are a wartime veteran\, or the surviving spouse of a veteran\, the Veterans Aid &amp\; Attendance Benefit could be an ideal solution for financing your senior housing needs. Join us for a special presentation about eligibility requirements\, payable benefits and how to file claims.<br />\n&nbsp\;<br />\n2018 Benefits (The maximum monthly benefit amounts)<br />\nSingle Veteran&hellip\;&hellip\;&hellip\;&hellip\;&hellip\;&hellip\;&hellip\;&hellip\;..&hellip\;&hellip\;&hellip\;&hellip\;..$1\,830<br />\n&#8203\;Surviving Spouse&hellip\;&hellip\;&hellip\;&hellip\;&hellip\;&hellip\;&hellip\;&hellip\;&hellip\;.&hellip\;&hellip\;..$1\,176<br />\nMarried Veteran Spouse needs care..&hellip\;&hellip\;&hellip\;$1\,436<br />\n&#8203\;Married Veteran with care needs&hellip\;&hellip\;...........$2\,169<br />\n*Actual benefit amount is determined by the VA based on eligibility<br />\n<br />\nFRIDAY\, march 23\, 2018 3:30 &ndash\; 4:30 pm&nbsp\;&nbsp\;&nbsp\;&nbsp\;&nbsp\;&nbsp\;&nbsp\;&nbsp\;&nbsp\;&nbsp\;&nbsp\;&nbsp\;&nbsp\;&nbsp\;&nbsp\;&nbsp\;&nbsp\;&nbsp\;&nbsp\;&nbsp\;<br />\n&nbsp\;<br />\nFor reservations or more information please call (714) 636-6453
LOCATION:Brookdale Garden Grove Assisted Living and Memory Care 10200 Chapman Avenue Garden Grove\, CA 92840
UID:e.1315.6293
SEQUENCE:3
DTSTAMP:20260419T150439Z
URL:http://member.gardengrovechamber.com/events/details/services-to-benefit-america-s-finest-6293
END:VEVENT

END:VCALENDAR
