BEGIN:VCALENDAR
VERSION:2.0
PRODID:-//ChamberMaster//Event Calendar 2.0//EN
METHOD:PUBLISH
X-PUBLISHED-TTL:P3D
REFRESH-INTERVAL:P3D
CALSCALE:GREGORIAN
BEGIN:VEVENT
DTSTART:20170914T010000Z
DTEND:20170914T033000Z
X-MICROSOFT-CDO-ALLDAYEVENT:FALSE
SUMMARY:Small Business Jump-Start
DESCRIPTION:If you have a great idea or passion and want to know how to turn it into a business\, then the Small Business Jump-Start is the workshop for you! Choosing the right small business to start -- one that will succeed   requires planning\, creativity and hard work. You will get answers to questions like:\n\n  How Do I Start?\n\n  Where are My Resources?\n\n  Who is a reliable source for Information?\n\n  How much capital will I need to launch?\n\n  How will I know what I don't know?\n\n  What are my next steps?\n\n  How do I create a plan?\n\n\n\nThe Small Business Jump-Start Workshop is facilitated by a Orange County Small Business Development Center (SBDC) Business Consultant who will provide an informative and interactive presentation on business essentials. The topics covered include but are not limited to:\n\n  Being an Entrepreneur\n\n  Business Planning\n\n  Financing a Small Business\n\n  Legal Forms of Organization\n\n  Licensing and Permits\n\n\n\nThroughout the workshop\, our highly experienced consultant will assess participants' readiness for no-cost one-on-one consultation services to discuss start-up\, growth and expansion plans. Staff will be available to make appointments with qualified business owners to meet with Orange County SBDC Consultants.
X-ALT-DESC;FMTTYPE=text/html:<span style="font-size:12px\;"><span style="font-family:arial\;"><span style="color: rgb(0\, 0\, 0)\;">If you have a great idea or passion and want to know how to turn it into a business\, then the Small Business Jump-Start is the workshop for you! Choosing the right small business to start -- one that will succeed &ndash\; requires planning\, creativity and hard work. You will get answers to questions like:<br />\n&bull\; How Do I Start?<br />\n&bull\; Where are My Resources?<br />\n&bull\; Who is a reliable source for Information?<br />\n&bull\; How much capital will I need to launch?<br />\n&bull\; How will I know what I don&rsquo\;t know?<br />\n&bull\; What are my next steps?<br />\n&bull\; How do I create a plan?<br />\n<br />\nThe Small Business Jump-Start Workshop is facilitated by a Orange County Small Business Development Center (SBDC) Business Consultant who will provide an informative and interactive presentation on business essentials. The topics covered include but are not limited to:<br />\n&bull\; Being an Entrepreneur<br />\n&bull\; Business Planning<br />\n&bull\; Financing a Small Business<br />\n&bull\; Legal Forms of Organization<br />\n&bull\; Licensing and Permits<br />\n<br />\nThroughout the workshop\, our highly experienced consultant will assess participants&#39\; readiness for no-cost one-on-one consultation services to discuss start-up\, growth and expansion plans. Staff will be available to make appointments with qualified business owners to meet with Orange County SBDC Consultants.</span></span></span>
LOCATION:Garden Grove Community Center 11300 Stanford Avenue Constitution Room Garden Grove\, CA 92840
UID:e.1315.6213
SEQUENCE:3
DTSTAMP:20260419T222124Z
URL:http://member.gardengrovechamber.com/events/details/small-business-jump-start-6213
END:VEVENT

END:VCALENDAR
