BEGIN:VCALENDAR
VERSION:2.0
PRODID:-//ChamberMaster//Event Calendar 2.0//EN
METHOD:PUBLISH
X-PUBLISHED-TTL:P3D
REFRESH-INTERVAL:P3D
CALSCALE:GREGORIAN
BEGIN:VEVENT
DTSTART:20140620T010000Z
DTEND:20140620T030000Z
X-MICROSOFT-CDO-ALLDAYEVENT:FALSE
SUMMARY:Social Media Marketing Strategies
DESCRIPTION:Join us at this free educational workshop presented by HUTdogs on how to use Social Media for Business and move your business forward!  Lean tips\, tricks and strategies for your business using social media to generate new business and connect with your customers.  Pre-registration required @ http://bit.ly/GGChamber619!!!
X-ALT-DESC;FMTTYPE=text/html:Join us at this free educational workshop presented by <strong>HUTdogs</strong> on how to use Social Media for Business and move your business forward! &nbsp\;Lean tips\, tricks and strategies for your business using social media to generate new business and connect with your customers. &nbsp\;<strong><span style="color:#0000FF\;"><em>Pre-registration required @ </em></span><a href="http://bit.ly/GGChamber619" style="color: rgb(17\, 85\, 204)\; font-family: arial\, sans-serif\; font-size: 12.727272033691406px\; line-height: normal\;" target="_blank"><span style="color:#0000FF\;">http://bit.ly/GGChamber619</span></a><span style="color:#0000FF\;"><em>!!!</em></span></strong>
LOCATION:Garden Grove Community Center 11300 Stanford Street Garden Grove\, CA 92840
UID:e.1315.1499
SEQUENCE:3
DTSTAMP:20260424T161854Z
URL:http://member.gardengrovechamber.com/events/details/social-media-marketing-strategies-06-19-2014-1499
END:VEVENT

END:VCALENDAR
