BEGIN:VCALENDAR
VERSION:2.0
PRODID:-//ChamberMaster//Event Calendar 2.0//EN
METHOD:PUBLISH
X-PUBLISHED-TTL:P3D
REFRESH-INTERVAL:P3D
CALSCALE:GREGORIAN
BEGIN:VEVENT
DTSTART:20180128T183000Z
DTEND:20180128T220000Z
X-MICROSOFT-CDO-ALLDAYEVENT:FALSE
SUMMARY:St. Columban Open House
DESCRIPTION:Consider a St. Columban Education\n\n  Montessori Preschool\, Transitional Kindergarten\, Elementary School\, Junior High\n\n  Challenging Academic Programs at all levels\n\n  Catechesis of the Good Shepherd Preschool to 3rd\n\n  Integrated 1:1 iPad Technology Program\n\n  Focus on STEAM (Science\, Technology\, Engineering\, Art and Mathematics)\n\n  Variety of After School Extra-Curricular Activities\n\n  Tuition Assistance available for qualified families\n\n\n\nTime                         Event\n\n9:30                        Sunday Mass\n\n\n\n10:30 - 11:15         Pancake Breakfast\; Art Show\; Performances by the St.                             Columban Colts Choir and Kazoo and Drum Corps\n\n\n\n11:15 -2:00         Classrooms Open\; Makerspace Demos
X-ALT-DESC;FMTTYPE=text/html:<strong>Consider a St. Columban Education</strong><br />\n&bull\; Montessori Preschool\, Transitional Kindergarten\,&nbsp\;Elementary School\, Junior High<br />\n&bull\; Challenging Academic Programs at all levels<br />\n&bull\; Catechesis of the Good Shepherd Preschool to 3rd<br />\n&bull\; Integrated 1:1 iPad Technology Program<br />\n&bull\; Focus on STEAM (Science\, Technology\,&nbsp\;Engineering\, Art and Mathematics)<br />\n&bull\; Variety of After School Extra-Curricular Activities<br />\n&bull\; Tuition Assistance available for qualified families<br />\n<br />\nTime &nbsp\;&nbsp\;&nbsp\;&nbsp\;&nbsp\;&nbsp\;&nbsp\;&nbsp\;&nbsp\;&nbsp\;&nbsp\;&nbsp\;&nbsp\;&nbsp\;&nbsp\;&nbsp\;&nbsp\;&nbsp\;&nbsp\;&nbsp\;&nbsp\;&nbsp\;&nbsp\;&nbsp\;Event<br />\n9:30 &nbsp\;&nbsp\;&nbsp\;&nbsp\;&nbsp\;&nbsp\;&nbsp\;&nbsp\;&nbsp\;&nbsp\;&nbsp\;&nbsp\;&nbsp\;&nbsp\;&nbsp\;&nbsp\;&nbsp\;&nbsp\;&nbsp\;&nbsp\;&nbsp\; &nbsp\;Sunday Mass<br />\n<br />\n10:30 - 11:15&nbsp\;&nbsp\;&nbsp\;&nbsp\;&nbsp\;&nbsp\;&nbsp\;&nbsp\;&nbsp\;Pancake Breakfast\;&nbsp\;Art Show\;&nbsp\;Performances by the&nbsp\;St. &nbsp\;&nbsp\;&nbsp\;&nbsp\;&nbsp\;&nbsp\;&nbsp\;&nbsp\;&nbsp\;&nbsp\;&nbsp\;&nbsp\;&nbsp\;&nbsp\;&nbsp\;&nbsp\;&nbsp\;&nbsp\;&nbsp\;&nbsp\;&nbsp\;&nbsp\;&nbsp\;&nbsp\;&nbsp\;&nbsp\;&nbsp\;&nbsp\;Columban Colts Choir and&nbsp\;Kazoo and Drum Corps<br />\n<br />\n11:15 -2:00 &nbsp\;&nbsp\;&nbsp\;&nbsp\;&nbsp\;&nbsp\;&nbsp\;&nbsp\;Classrooms Open\; Makerspace Demos
LOCATION:10855 Stanford Ave Garden Grove\, CA
UID:e.1315.6260
SEQUENCE:3
DTSTAMP:20260419T163217Z
URL:http://member.gardengrovechamber.com/events/details/st-columban-open-house-6260
END:VEVENT

END:VCALENDAR
