BEGIN:VCALENDAR
VERSION:2.0
PRODID:-//ChamberMaster//Event Calendar 2.0//EN
METHOD:PUBLISH
X-PUBLISHED-TTL:P3D
REFRESH-INTERVAL:P3D
CALSCALE:GREGORIAN
BEGIN:VEVENT
DTSTART:20170526T200000Z
DTEND:20170526T220000Z
X-MICROSOFT-CDO-ALLDAYEVENT:FALSE
SUMMARY:St. Columban School
DESCRIPTION:St. Columban School\n\n\n\nOur Faculty\, Staff and Students cordially invite you to attend a special program in recognition of those who have lost their lives serving our country and to honor our Veterans and Active Duty Military. \n\n\n\nVeterans\, Active Military\, and their families will be honored by the Student Body\, the Colt's Choir and Kazoo and Drum Corps. \n\n\n\nPosting of the Colors - United States Air Force\n\n(Blue Eagles Total Force Honor Guard)\n\n\n\nNever Forget
X-ALT-DESC;FMTTYPE=text/html:St. Columban School<br />\n<br />\nOur Faculty\, Staff and Students cordially invite you to attend a special program in recognition of those who have lost their lives serving our country and to honor our Veterans and Active Duty Military.&nbsp\;<br />\n<br />\nVeterans\, Active Military\, and their families will be honored by the Student Body\, the Colt&#39\;s Choir and Kazoo and Drum Corps.&nbsp\;<br />\n<br />\nPosting of the Colors - United States Air Force<br />\n(Blue Eagles Total Force Honor Guard)<br />\n<br />\nNever Forget
LOCATION:St. Columban School Murphy Hall
UID:e.1315.6158
SEQUENCE:3
DTSTAMP:20260420T044422Z
URL:http://member.gardengrovechamber.com/events/details/st-columban-school-6158
END:VEVENT

END:VCALENDAR
