BEGIN:VCALENDAR
VERSION:2.0
PRODID:-//ChamberMaster//Event Calendar 2.0//EN
METHOD:PUBLISH
X-PUBLISHED-TTL:P3D
REFRESH-INTERVAL:P3D
CALSCALE:GREGORIAN
BEGIN:VEVENT
DTSTART:20161015T170000Z
DTEND:20161015T210000Z
X-MICROSOFT-CDO-ALLDAYEVENT:FALSE
SUMMARY:St. Paul's Fall Festival
DESCRIPTION:St. Paul's Lutheran International Language School & Preschool of Garden Grove is holding a Fall Festival behind F&M Bank. \n\n\n\nFree Admission//Free Attractions\n\n\n\nPetting Zoo\n\nPumpkin Patch\n\nObstacle Course\n\nBounce House\n\nTrackless Train\n\nBalloon Twister\n\nFace Painting\n\nArts & Crafts\n\n\n\nFood Truck Roundup:\n\nRuby's Food Truck\n\nWaffle-icious\n\nPiaggio on Wheels\n\nFront Porch Pops\n\n\n\n*Please bring a canned good.non-perishable food item to benefit local food banks.
X-ALT-DESC;FMTTYPE=text/html:St. Paul&#39\;s Lutheran International Language School &amp\; Preschool of Garden Grove is holding a Fall Festival&nbsp\;behind F&amp\;M Bank.&nbsp\;<br />\n<br />\nFree Admission//Free Attractions<br />\n<br />\nPetting Zoo<br />\nPumpkin Patch<br />\nObstacle Course<br />\nBounce House<br />\nTrackless Train<br />\nBalloon Twister<br />\nFace Painting<br />\nArts &amp\; Crafts<br />\n<br />\nFood Truck Roundup:<br />\nRuby&#39\;s Food Truck<br />\nWaffle-icious<br />\nPiaggio on Wheels<br />\nFront Porch Pops<br />\n<br />\n*Please bring a canned good.non-perishable food item to benefit local food banks.&nbsp\;
LOCATION:13082 Bowen Street\, Garden Grove (Behind F&M Bank)
UID:e.1315.6023
SEQUENCE:3
DTSTAMP:20260420T151456Z
URL:http://member.gardengrovechamber.com/events/details/st-paul-s-fall-festival-6023
END:VEVENT

END:VCALENDAR
